BEGIN:VCALENDAR
VERSION:2.0
PRODID:-//Klosterschule Hamburg - ECPv6.15.11//NONSGML v1.0//EN
CALSCALE:GREGORIAN
METHOD:PUBLISH
X-ORIGINAL-URL:https://klosterschule-hamburg.de
X-WR-CALDESC:Veranstaltungen für Klosterschule Hamburg
REFRESH-INTERVAL;VALUE=DURATION:PT1H
X-Robots-Tag:noindex
X-PUBLISHED-TTL:PT1H
BEGIN:VTIMEZONE
TZID:Europe/Berlin
BEGIN:DAYLIGHT
TZOFFSETFROM:+0100
TZOFFSETTO:+0200
TZNAME:CEST
DTSTART:20250330T010000
END:DAYLIGHT
BEGIN:STANDARD
TZOFFSETFROM:+0200
TZOFFSETTO:+0100
TZNAME:CET
DTSTART:20251026T010000
END:STANDARD
BEGIN:DAYLIGHT
TZOFFSETFROM:+0100
TZOFFSETTO:+0200
TZNAME:CEST
DTSTART:20260329T010000
END:DAYLIGHT
BEGIN:STANDARD
TZOFFSETFROM:+0200
TZOFFSETTO:+0100
TZNAME:CET
DTSTART:20261025T010000
END:STANDARD
BEGIN:DAYLIGHT
TZOFFSETFROM:+0100
TZOFFSETTO:+0200
TZNAME:CEST
DTSTART:20270328T010000
END:DAYLIGHT
BEGIN:STANDARD
TZOFFSETFROM:+0200
TZOFFSETTO:+0100
TZNAME:CET
DTSTART:20271031T010000
END:STANDARD
END:VTIMEZONE
BEGIN:VEVENT
DTSTART;VALUE=DATE:20260504
DTEND;VALUE=DATE:20260509
DTSTAMP:20260421T110200
CREATED:20250825T164006Z
LAST-MODIFIED:20260326T155217Z
UID:10002181-1777852800-1778284799@klosterschule-hamburg.de
SUMMARY:Jg.7: Klassenreise
DESCRIPTION:
URL:https://klosterschule-hamburg.de/event/jg-7-klassenreise-3/
END:VEVENT
BEGIN:VEVENT
DTSTART;TZID=Europe/Berlin:20260506T090000
DTEND;TZID=Europe/Berlin:20260506T120000
DTSTAMP:20260421T110200
CREATED:20250825T164006Z
LAST-MODIFIED:20260326T155217Z
UID:10002179-1778058000-1778068800@klosterschule-hamburg.de
SUMMARY:AL 8-10: Behörde
DESCRIPTION:
URL:https://klosterschule-hamburg.de/event/al-8-10-behoerde-8/
END:VEVENT
BEGIN:VEVENT
DTSTART;TZID=Europe/Berlin:20260506T130000
DTEND;TZID=Europe/Berlin:20260506T160000
DTSTAMP:20260421T110200
CREATED:20250825T164006Z
LAST-MODIFIED:20260326T155218Z
UID:10002180-1778072400-1778083200@klosterschule-hamburg.de
SUMMARY:AL 5-7: Behörde
DESCRIPTION:
URL:https://klosterschule-hamburg.de/event/al-5-7-behoerde-8/
END:VEVENT
BEGIN:VEVENT
DTSTART;TZID=Europe/Berlin:20260506T143000
DTEND;TZID=Europe/Berlin:20260506T163000
DTSTAMP:20260421T110200
CREATED:20250825T164010Z
LAST-MODIFIED:20260326T155217Z
UID:10002190-1778077800-1778085000@klosterschule-hamburg.de
SUMMARY:AG KLS Weiterdenken
DESCRIPTION:
URL:https://klosterschule-hamburg.de/event/ag-kls-weiterdenken-8/
END:VEVENT
BEGIN:VEVENT
DTSTART;TZID=Europe/Berlin:20260507T000000
DTEND;TZID=Europe/Berlin:20260507T053000
DTSTAMP:20260421T110200
CREATED:20260326T092336Z
LAST-MODIFIED:20260326T155218Z
UID:10002264-1778112000-1778131800@klosterschule-hamburg.de
SUMMARY:Neues Ereignis
DESCRIPTION:
URL:https://klosterschule-hamburg.de/event/neues-ereignis/
END:VEVENT
BEGIN:VEVENT
DTSTART;VALUE=DATE:20260511
DTEND;VALUE=DATE:20260516
DTSTAMP:20260421T110200
CREATED:20250825T164012Z
LAST-MODIFIED:20260326T155218Z
UID:10002192-1778457600-1778889599@klosterschule-hamburg.de
SUMMARY:Maiferien
DESCRIPTION:
URL:https://klosterschule-hamburg.de/event/maiferien-5/
END:VEVENT
BEGIN:VEVENT
DTSTART;VALUE=DATE:20260519
DTEND;VALUE=DATE:20260520
DTSTAMP:20260421T110200
CREATED:20250825T164012Z
LAST-MODIFIED:20260326T155218Z
UID:10002193-1779148800-1779235199@klosterschule-hamburg.de
SUMMARY:Jg.10: MSA Deutsch Nachschreiber:innen
DESCRIPTION:
URL:https://klosterschule-hamburg.de/event/jg-10-msa-deutsch-nachschreiberinnen-2/
END:VEVENT
BEGIN:VEVENT
DTSTART;VALUE=DATE:20260519
DTEND;VALUE=DATE:20260520
DTSTAMP:20260421T110200
CREATED:20250825T164013Z
LAST-MODIFIED:20260326T155218Z
UID:10002194-1779148800-1779235199@klosterschule-hamburg.de
SUMMARY:Stv. SL: Bezirkskonferenz
DESCRIPTION:
URL:https://klosterschule-hamburg.de/event/stv-sl-bezirkskonferenz-7/
END:VEVENT
BEGIN:VEVENT
DTSTART;TZID=Europe/Berlin:20260519T190000
DTEND;TZID=Europe/Berlin:20260519T200000
DTSTAMP:20260421T110200
CREATED:20260326T092337Z
LAST-MODIFIED:20260326T155218Z
UID:10002265-1779217200-1779220800@klosterschule-hamburg.de
SUMMARY:Sommerkonzert
DESCRIPTION:
URL:https://klosterschule-hamburg.de/event/sommerkonzert-4/
END:VEVENT
BEGIN:VEVENT
DTSTART;VALUE=DATE:20260520
DTEND;VALUE=DATE:20260521
DTSTAMP:20260421T110200
CREATED:20250825T164013Z
LAST-MODIFIED:20251019T052200Z
UID:10002196-1779235200-1779321599@klosterschule-hamburg.de
SUMMARY:Jg.10: MSA Englisch / Sprachfeststellungsprüfungen Nachschreiber:innen
DESCRIPTION:
URL:https://klosterschule-hamburg.de/event/jg-10-msa-englisch-sprachfeststellungspruefungen-nachschreiberinnen-2/
END:VEVENT
BEGIN:VEVENT
DTSTART;TZID=Europe/Berlin:20260520T143000
DTEND;TZID=Europe/Berlin:20260520T160000
DTSTAMP:20260421T110200
CREATED:20250825T164013Z
LAST-MODIFIED:20260326T155219Z
UID:10002195-1779287400-1779292800@klosterschule-hamburg.de
SUMMARY:Planungsgruppe
DESCRIPTION:
URL:https://klosterschule-hamburg.de/event/planungsgruppe-25/
END:VEVENT
BEGIN:VEVENT
DTSTART;VALUE=DATE:20260522
DTEND;VALUE=DATE:20260523
DTSTAMP:20260421T110200
CREATED:20250825T164013Z
LAST-MODIFIED:20260326T155219Z
UID:10002197-1779408000-1779494399@klosterschule-hamburg.de
SUMMARY:Jg.10: MSA Mathematik Nachschreiber:innen
DESCRIPTION:
URL:https://klosterschule-hamburg.de/event/jg-10-msa-mathematik-nachschreiberinnen-2/
END:VEVENT
BEGIN:VEVENT
DTSTART;VALUE=DATE:20260522
DTEND;VALUE=DATE:20260603
DTSTAMP:20260421T110200
CREATED:20250825T164015Z
LAST-MODIFIED:20260326T155219Z
UID:10002201-1779408000-1780444799@klosterschule-hamburg.de
SUMMARY:Jg.12: Schriftliches Abitur Nachschreiber:innen
DESCRIPTION:
URL:https://klosterschule-hamburg.de/event/jg-12-schriftliches-abitur-nachschreiberinnen-2/
END:VEVENT
BEGIN:VEVENT
DTSTART;VALUE=DATE:20260525
DTEND;VALUE=DATE:20260526
DTSTAMP:20260421T110200
CREATED:20250825T164014Z
LAST-MODIFIED:20260326T155219Z
UID:10002198-1779667200-1779753599@klosterschule-hamburg.de
SUMMARY:Pfingstmontag (unterrichtsfrei)
DESCRIPTION:
URL:https://klosterschule-hamburg.de/event/pfingstmontag-unterrichtsfrei/
END:VEVENT
BEGIN:VEVENT
DTSTART;VALUE=DATE:20260527
DTEND;VALUE=DATE:20260528
DTSTAMP:20260421T110200
CREATED:20250825T164014Z
LAST-MODIFIED:20260326T155220Z
UID:10002199-1779840000-1779926399@klosterschule-hamburg.de
SUMMARY:Jg.10: MSA mdl. Prüfungen Englisch
DESCRIPTION:
URL:https://klosterschule-hamburg.de/event/jg-10-msa-mdl-pruefungen-englisch/
END:VEVENT
BEGIN:VEVENT
DTSTART;TZID=Europe/Berlin:20260527T143000
DTEND;TZID=Europe/Berlin:20260527T170000
DTSTAMP:20260421T110200
CREATED:20250825T164015Z
LAST-MODIFIED:20260326T155219Z
UID:10002202-1779892200-1779901200@klosterschule-hamburg.de
SUMMARY:Allgemeine Konferenz
DESCRIPTION:
URL:https://klosterschule-hamburg.de/event/allgemeine-konferenz-27/
END:VEVENT
BEGIN:VEVENT
DTSTART;TZID=Europe/Berlin:20260527T190000
DTEND;TZID=Europe/Berlin:20260527T203000
DTSTAMP:20260421T110200
CREATED:20251002T185211Z
LAST-MODIFIED:20260326T155219Z
UID:10002243-1779908400-1779913800@klosterschule-hamburg.de
SUMMARY:Elternratssitzung
DESCRIPTION:
URL:https://klosterschule-hamburg.de/event/elternratssitzung-21/
END:VEVENT
BEGIN:VEVENT
DTSTART;TZID=Europe/Berlin:20260528T183000
DTEND;TZID=Europe/Berlin:20260528T203000
DTSTAMP:20260421T110200
CREATED:20250825T164016Z
LAST-MODIFIED:20260326T155220Z
UID:10002204-1779993000-1780000200@klosterschule-hamburg.de
SUMMARY:Schulkonferenz
DESCRIPTION:
URL:https://klosterschule-hamburg.de/event/schulkonferenz-23/
END:VEVENT
BEGIN:VEVENT
DTSTART;VALUE=DATE:20260529
DTEND;VALUE=DATE:20260530
DTSTAMP:20260421T110200
CREATED:20250825T164014Z
LAST-MODIFIED:20260326T155220Z
UID:10002200-1780012800-1780099199@klosterschule-hamburg.de
SUMMARY:Jg.10: MSA mdl. Prüfungen weiteres Fach
DESCRIPTION:
URL:https://klosterschule-hamburg.de/event/jg-10-msa-mdl-pruefungen-weiteres-fach/
END:VEVENT
BEGIN:VEVENT
DTSTART;TZID=Europe/Berlin:20260602T190000
DTEND;TZID=Europe/Berlin:20260602T210000
DTSTAMP:20260421T110200
CREATED:20260326T092338Z
LAST-MODIFIED:20260326T155220Z
UID:10002266-1780426800-1780434000@klosterschule-hamburg.de
SUMMARY:Jg. 11 Theateraufführung Musikprofil: Eigenproduktion Hamburger Stadtmusikanten
DESCRIPTION:
URL:https://klosterschule-hamburg.de/event/jg-11-theaterauffuehrung-musikprofil-eigenproduktion-hamburger-stadtmusikanten/
END:VEVENT
BEGIN:VEVENT
DTSTART;TZID=Europe/Berlin:20260603T120000
DTEND;TZID=Europe/Berlin:20260603T150000
DTSTAMP:20260421T110200
CREATED:20260130T093308Z
LAST-MODIFIED:20260326T155220Z
UID:10002251-1780488000-1780498800@klosterschule-hamburg.de
SUMMARY:2. QE Gespräch mit der Schulaufsicht
DESCRIPTION:
URL:https://klosterschule-hamburg.de/event/2-qe-gespraech-mit-der-schulaufsicht/
END:VEVENT
BEGIN:VEVENT
DTSTART;TZID=Europe/Berlin:20260604T153000
DTEND;TZID=Europe/Berlin:20260604T170000
DTSTAMP:20260421T110200
CREATED:20250825T164016Z
LAST-MODIFIED:20260326T155220Z
UID:10002203-1780587000-1780592400@klosterschule-hamburg.de
SUMMARY:Jg.5neu: Kennenlernnachmittag
DESCRIPTION:
URL:https://klosterschule-hamburg.de/event/jg-5neu-kennenlernnachmittag/
END:VEVENT
BEGIN:VEVENT
DTSTART;TZID=Europe/Berlin:20260610T140000
DTEND;TZID=Europe/Berlin:20260610T180000
DTSTAMP:20260421T110200
CREATED:20250825T164016Z
LAST-MODIFIED:20260326T155221Z
UID:10002205-1781100000-1781114400@klosterschule-hamburg.de
SUMMARY:Jg. 10: Zeugniskonferenzen
DESCRIPTION:
URL:https://klosterschule-hamburg.de/event/jg-10-zeugniskonferenzen-10/
END:VEVENT
BEGIN:VEVENT
DTSTART;TZID=Europe/Berlin:20260610T140000
DTEND;TZID=Europe/Berlin:20260610T180000
DTSTAMP:20260421T110200
CREATED:20250825T164017Z
LAST-MODIFIED:20260326T155221Z
UID:10002206-1781100000-1781114400@klosterschule-hamburg.de
SUMMARY:Jg. 6: Zeugniskonferenzen
DESCRIPTION:
URL:https://klosterschule-hamburg.de/event/jg-6-zeugniskonferenzen-11/
END:VEVENT
BEGIN:VEVENT
DTSTART;TZID=Europe/Berlin:20260610T180000
DTEND;TZID=Europe/Berlin:20260610T200000
DTSTAMP:20260421T110200
CREATED:20260130T093308Z
LAST-MODIFIED:20260326T155221Z
UID:10002252-1781114400-1781121600@klosterschule-hamburg.de
SUMMARY:Jg. 10: Aufführung (Hl)
DESCRIPTION:
URL:https://klosterschule-hamburg.de/event/jg-10-auffuehrung-hl/
END:VEVENT
BEGIN:VEVENT
DTSTART;TZID=Europe/Berlin:20260611T100000
DTEND;TZID=Europe/Berlin:20260611T104500
DTSTAMP:20260421T110200
CREATED:20260130T093309Z
LAST-MODIFIED:20260326T155221Z
UID:10002254-1781172000-1781174700@klosterschule-hamburg.de
SUMMARY:Jg.5/6: Wahl der Schulsprecher:innen
DESCRIPTION:
URL:https://klosterschule-hamburg.de/event/jg-5-6-wahl-der-schulsprecherinnen/
END:VEVENT
BEGIN:VEVENT
DTSTART;TZID=Europe/Berlin:20260611T104500
DTEND;TZID=Europe/Berlin:20260611T113000
DTSTAMP:20260421T110200
CREATED:20260130T093309Z
LAST-MODIFIED:20260326T155221Z
UID:10002253-1781174700-1781177400@klosterschule-hamburg.de
SUMMARY:Jg.7/8: Wahl der Schulsprecher:innen
DESCRIPTION:
URL:https://klosterschule-hamburg.de/event/jg-7-8-wahl-der-schulsprecherinnen/
END:VEVENT
BEGIN:VEVENT
DTSTART;TZID=Europe/Berlin:20260611T143000
DTEND;TZID=Europe/Berlin:20260611T151500
DTSTAMP:20260421T110200
CREATED:20260130T093310Z
LAST-MODIFIED:20260326T155222Z
UID:10002255-1781188200-1781190900@klosterschule-hamburg.de
SUMMARY:Jg.9/10: Wahl der Schulsprecher:innen\nGeplant: 11.06.2026\, 10:00 bis 10:45\, MESZ
DESCRIPTION:
URL:https://klosterschule-hamburg.de/event/jg-9-10-wahl-der-schulsprecherinnengeplant-11-06-2026-1000-bis-1045-mesz/
END:VEVENT
BEGIN:VEVENT
DTSTART;TZID=Europe/Berlin:20260611T151500
DTEND;TZID=Europe/Berlin:20260611T160000
DTSTAMP:20260421T110200
CREATED:20260130T093310Z
LAST-MODIFIED:20260326T155222Z
UID:10002256-1781190900-1781193600@klosterschule-hamburg.de
SUMMARY:Jg.11/12: Wahl der Schulsprecher:innen
DESCRIPTION:
URL:https://klosterschule-hamburg.de/event/jg-11-12-wahl-der-schulsprecherinnen/
END:VEVENT
BEGIN:VEVENT
DTSTART;TZID=Europe/Berlin:20260611T180000
DTEND;TZID=Europe/Berlin:20260611T200000
DTSTAMP:20260421T110200
CREATED:20260130T093311Z
LAST-MODIFIED:20260326T155222Z
UID:10002257-1781200800-1781208000@klosterschule-hamburg.de
SUMMARY:Jg. 10: Aufführung (Hl)
DESCRIPTION:
URL:https://klosterschule-hamburg.de/event/jg-10-auffuehrung-hl-2/
END:VEVENT
END:VCALENDAR